BEGIN:VCALENDAR
VERSION:2.0
PRODID:-//MoreDirt v1.0//EN
BEGIN:VEVENT
DTSTAMP:20150730T130000Z
ORGANIZER;CN=Specialized UK:MAILTO:
STATUS:CONFIRMED
UID:MORESPORTSNETWORK4961
DTSTART:20211116T080000+0000
DTEND:20211117T120000+0000
SUMMARY:Specialized Turbo Kenevo SL Ride Experience
DESCRIPTION:Specialized Turbo Kenevo SL Ride Experience - more details: https://www.moredirt.com/event/4961
X-ALT-DESC;FMTTYPE=text/html:Specialized Turbo Kenevo SL Ride Experience - more details: https://www.moredirt.com/event/4961
LOCATION:
END:VEVENT
END:VCALENDAR