BEGIN:VCALENDAR
VERSION:2.0
PRODID:-//MoreDirt v1.0//EN
BEGIN:VEVENT
DTSTAMP:20150730T130000Z
ORGANIZER;CN=Miss Sara Flatt:MAILTO:
STATUS:CONFIRMED
UID:MORESPORTSNETWORK495
DTSTART:20121125T080000+0000
DTEND:20121125T120000+0000
SUMMARY:Five by Three Round 3 - Hautbois Outdoor Centre
DESCRIPTION:Five by Three Round 3 - Hautbois Outdoor Centre - more details: https://www.moredirt.com/event/495
X-ALT-DESC;FMTTYPE=text/html:Five by Three Round 3 - Hautbois Outdoor Centre - more details: https://www.moredirt.com/event/495
LOCATION:
END:VEVENT
END:VCALENDAR