BEGIN:VCALENDAR
VERSION:2.0
PRODID:-//MoreDirt v1.0//EN
BEGIN:VEVENT
DTSTAMP:20150730T130000Z
ORGANIZER;CN=GOWAAN:MAILTO:
STATUS:CONFIRMED
UID:MORESPORTSNETWORK4957
DTSTART:20220610T080000Z
DTEND:20220612T120000Z
SUMMARY:Gowaan Gals MTB Festival 2022
DESCRIPTION:Gowaan Gals MTB Festival 2022 - more details: https://www.moredirt.com/event/4957
X-ALT-DESC;FMTTYPE=text/html:Gowaan Gals MTB Festival 2022 - more details: https://www.moredirt.com/event/4957
LOCATION:
END:VEVENT
END:VCALENDAR