BEGIN:VCALENDAR
VERSION:2.0
PRODID:-//MoreDirt v1.0//EN
BEGIN:VEVENT
DTSTAMP:20150730T130000Z
ORGANIZER;CN=CORC - Canberra Off Road Cyclists:MAILTO:
STATUS:CONFIRMED
UID:MORESPORTSNETWORK4940
DTSTART:20211113T080000+0000
DTEND:20211113T120000+0000
SUMMARY:CORC XC Round 5
DESCRIPTION:CORC XC Round 5 - more details: https://www.moredirt.com/event/4940
X-ALT-DESC;FMTTYPE=text/html:CORC XC Round 5 - more details: https://www.moredirt.com/event/4940
LOCATION:
END:VEVENT
END:VCALENDAR