BEGIN:VCALENDAR
VERSION:2.0
PRODID:-//MoreDirt v1.0//EN
BEGIN:VEVENT
DTSTAMP:20150730T130000Z
ORGANIZER;CN=Rutland Cycling:MAILTO:
STATUS:CONFIRMED
UID:MORESPORTSNETWORK4939
DTSTART:20211117T080000+0000
DTEND:20211117T120000+0000
SUMMARY:Exposure Demo Night Ride - Rutland Cycling, Pitsford
DESCRIPTION:Exposure Demo Night Ride - Rutland Cycling, Pitsford - more details: https://www.moredirt.com/event/4939
X-ALT-DESC;FMTTYPE=text/html:Exposure Demo Night Ride - Rutland Cycling, Pitsford - more details: https://www.moredirt.com/event/4939
LOCATION:
END:VEVENT
END:VCALENDAR