BEGIN:VCALENDAR
VERSION:2.0
PRODID:-//MoreDirt v1.0//EN
BEGIN:VEVENT
DTSTAMP:20150730T130000Z
ORGANIZER;CN=Welsh Cycling:MAILTO:
STATUS:CONFIRMED
UID:MORESPORTSNETWORK4930
DTSTART:20211219T080000+0000
DTEND:20211219T120000+0000
SUMMARY:Welsh Cyclo-Cross League 2021 - RD5
DESCRIPTION:Welsh Cyclo-Cross League 2021 - RD5 - more details: https://www.moredirt.com/event/4930
X-ALT-DESC;FMTTYPE=text/html:Welsh Cyclo-Cross League 2021 - RD5 - more details: https://www.moredirt.com/event/4930
LOCATION:
END:VEVENT
END:VCALENDAR