BEGIN:VCALENDAR
VERSION:2.0
PRODID:-//MoreDirt v1.0//EN
BEGIN:VEVENT
DTSTAMP:20150730T130000Z
ORGANIZER;CN=Welsh Cycling:MAILTO:
STATUS:CONFIRMED
UID:MORESPORTSNETWORK4928
DTSTART:20211128T080000+0000
DTEND:20211128T120000+0000
SUMMARY:Welsh Cyclo-Cross League 2021 - RD3
DESCRIPTION:Welsh Cyclo-Cross League 2021 - RD3 - more details: https://www.moredirt.com/event/4928
X-ALT-DESC;FMTTYPE=text/html:Welsh Cyclo-Cross League 2021 - RD3 - more details: https://www.moredirt.com/event/4928
LOCATION:
END:VEVENT
END:VCALENDAR