BEGIN:VCALENDAR
VERSION:2.0
PRODID:-//MoreDirt v1.0//EN
BEGIN:VEVENT
DTSTAMP:20150730T130000Z
ORGANIZER;CN=Downhill Southeast:MAILTO:
STATUS:CONFIRMED
UID:MORESPORTSNETWORK4919
DTSTART:20220624T080000Z
DTEND:20220626T120000Z
SUMMARY:Downhill Southeast Series Race 6
DESCRIPTION:Downhill Southeast Series Race 6 - more details: https://www.moredirt.com/event/4919
X-ALT-DESC;FMTTYPE=text/html:Downhill Southeast Series Race 6 - more details: https://www.moredirt.com/event/4919
LOCATION:
END:VEVENT
END:VCALENDAR