BEGIN:VCALENDAR
VERSION:2.0
PRODID:-//MoreDirt v1.0//EN
BEGIN:VEVENT
DTSTAMP:20150730T130000Z
ORGANIZER;CN=Downhill Southeast:MAILTO:
STATUS:CONFIRMED
UID:MORESPORTSNETWORK4917
DTSTART:20220513T080000Z
DTEND:20220515T120000Z
SUMMARY:Downhill Southeast Series Race 4
DESCRIPTION:Downhill Southeast Series Race 4 - more details: https://www.moredirt.com/event/4917
X-ALT-DESC;FMTTYPE=text/html:Downhill Southeast Series Race 4 - more details: https://www.moredirt.com/event/4917
LOCATION:
END:VEVENT
END:VCALENDAR