BEGIN:VCALENDAR
VERSION:2.0
PRODID:-//MoreDirt v1.0//EN
BEGIN:VEVENT
DTSTAMP:20150730T130000Z
ORGANIZER;CN=Downhill Southeast:MAILTO:
STATUS:CONFIRMED
UID:MORESPORTSNETWORK4916
DTSTART:20220430T080000Z
DTEND:20220501T120000Z
SUMMARY:Downhill Southeast Series Race 3
DESCRIPTION:Downhill Southeast Series Race 3 - more details: https://www.moredirt.com/event/4916
X-ALT-DESC;FMTTYPE=text/html:Downhill Southeast Series Race 3 - more details: https://www.moredirt.com/event/4916
LOCATION:
END:VEVENT
END:VCALENDAR