BEGIN:VCALENDAR
VERSION:2.0
PRODID:-//MoreDirt v1.0//EN
BEGIN:VEVENT
DTSTAMP:20150730T130000Z
ORGANIZER;CN=Downhill Southeast:MAILTO:
STATUS:CONFIRMED
UID:MORESPORTSNETWORK4914
DTSTART:20220225T080000+0000
DTEND:20220227T120000+0000
SUMMARY:Downhill Southeast Series Race 1
DESCRIPTION:Downhill Southeast Series Race 1 - more details: https://www.moredirt.com/event/4914
X-ALT-DESC;FMTTYPE=text/html:Downhill Southeast Series Race 1 - more details: https://www.moredirt.com/event/4914
LOCATION:
END:VEVENT
END:VCALENDAR