BEGIN:VCALENDAR
VERSION:2.0
PRODID:-//MoreDirt v1.0//EN
BEGIN:VEVENT
DTSTAMP:20150730T130000Z
ORGANIZER;CN=Bagman Cycling:MAILTO:
STATUS:CONFIRMED
UID:MORESPORTSNETWORK4911
DTSTART:20220320T080000+0000
DTEND:20220320T120000+0000
SUMMARY:The Cotswold Cross 2022
DESCRIPTION:The Cotswold Cross 2022 - more details: https://www.moredirt.com/event/4911
X-ALT-DESC;FMTTYPE=text/html:The Cotswold Cross 2022 - more details: https://www.moredirt.com/event/4911
LOCATION:
END:VEVENT
END:VCALENDAR