BEGIN:VCALENDAR
VERSION:2.0
PRODID:-//MoreDirt v1.0//EN
BEGIN:VEVENT
DTSTAMP:20150730T130000Z
ORGANIZER;CN=Machynlleth MTB Club:MAILTO:
STATUS:CONFIRMED
UID:MORESPORTSNETWORK4910
DTSTART:20220123T080000+0000
DTEND:20220123T120000+0000
SUMMARY:Dyfi Winter Warm Up 2022
DESCRIPTION:Dyfi Winter Warm Up 2022 - more details: https://www.moredirt.com/event/4910
X-ALT-DESC;FMTTYPE=text/html:Dyfi Winter Warm Up 2022 - more details: https://www.moredirt.com/event/4910
LOCATION:
END:VEVENT
END:VCALENDAR