BEGIN:VCALENDAR
VERSION:2.0
PRODID:-//MoreDirt v1.0//EN
BEGIN:VEVENT
DTSTAMP:20150730T130000Z
ORGANIZER;CN=Dromara CC:MAILTO:
STATUS:CONFIRMED
UID:MORESPORTSNETWORK4905
DTSTART:20211009T080000Z
DTEND:20211009T120000Z
SUMMARY:Slieve Croob Enduro 2021
DESCRIPTION:Slieve Croob Enduro 2021 - more details: https://www.moredirt.com/event/4905
X-ALT-DESC;FMTTYPE=text/html:Slieve Croob Enduro 2021 - more details: https://www.moredirt.com/event/4905
LOCATION:
END:VEVENT
END:VCALENDAR