BEGIN:VCALENDAR
VERSION:2.0
PRODID:-//MoreDirt v1.0//EN
BEGIN:VEVENT
DTSTAMP:20150730T130000Z
ORGANIZER;CN=Mayer Active:MAILTO:
STATUS:CONFIRMED
UID:MORESPORTSNETWORK4897
DTSTART:20220227T080000+0000
DTEND:20220227T120000+0000
SUMMARY:Cannock Chase Winter Classic 2022
DESCRIPTION:Cannock Chase Winter Classic 2022 - more details: https://www.moredirt.com/event/4897
X-ALT-DESC;FMTTYPE=text/html:Cannock Chase Winter Classic 2022 - more details: https://www.moredirt.com/event/4897
LOCATION:
END:VEVENT
END:VCALENDAR