BEGIN:VCALENDAR
VERSION:2.0
PRODID:-//MoreDirt v1.0//EN
BEGIN:VEVENT
DTSTAMP:20150730T130000Z
ORGANIZER;CN=Mayer Active:MAILTO:
STATUS:CONFIRMED
UID:MORESPORTSNETWORK4896
DTSTART:20220327T080000Z
DTEND:20220327T120000Z
SUMMARY:Dirty Nocka 3/6Hr MTB Endurance Race 2022
DESCRIPTION:Dirty Nocka 3/6Hr MTB Endurance Race 2022 - more details: https://www.moredirt.com/event/4896
X-ALT-DESC;FMTTYPE=text/html:Dirty Nocka 3/6Hr MTB Endurance Race 2022 - more details: https://www.moredirt.com/event/4896
LOCATION:
END:VEVENT
END:VCALENDAR