BEGIN:VCALENDAR
VERSION:2.0
PRODID:-//MoreDirt v1.0//EN
BEGIN:VEVENT
DTSTAMP:20150730T130000Z
ORGANIZER;CN=Gravity Enduro South Australia:MAILTO:
STATUS:CONFIRMED
UID:MORESPORTSNETWORK4893
DTSTART:20211017T080000Z
DTEND:20211017T120000Z
SUMMARY:Gravity Enduro SA Series 2021 - Race 4
DESCRIPTION:Gravity Enduro SA Series 2021 - Race 4 - more details: https://www.moredirt.com/event/4893
X-ALT-DESC;FMTTYPE=text/html:Gravity Enduro SA Series 2021 - Race 4 - more details: https://www.moredirt.com/event/4893
LOCATION:
END:VEVENT
END:VCALENDAR