BEGIN:VCALENDAR
VERSION:2.0
PRODID:-//MoreDirt v1.0//EN
BEGIN:VEVENT
DTSTAMP:20150730T130000Z
ORGANIZER;CN=Vedangi Kulkarni:MAILTO:
STATUS:CONFIRMED
UID:MORESPORTSNETWORK4887
DTSTART:20211107T080000+0000
DTEND:20211107T120000+0000
SUMMARY:#RideForCasey DH Race
DESCRIPTION:#RideForCasey DH Race - more details: https://www.moredirt.com/event/4887
X-ALT-DESC;FMTTYPE=text/html:#RideForCasey DH Race - more details: https://www.moredirt.com/event/4887
LOCATION:
END:VEVENT
END:VCALENDAR