BEGIN:VCALENDAR
VERSION:2.0
PRODID:-//MoreDirt v1.0//EN
BEGIN:VEVENT
DTSTAMP:20150730T130000Z
ORGANIZER;CN=Malverns Festival:MAILTO:
STATUS:CONFIRMED
UID:MORESPORTSNETWORK4876
DTSTART:20220825T080000Z
DTEND:20220828T120000Z
SUMMARY:GT Bicycles Malverns Classic 2022
DESCRIPTION:GT Bicycles Malverns Classic 2022 - more details: https://www.moredirt.com/event/4876
X-ALT-DESC;FMTTYPE=text/html:GT Bicycles Malverns Classic 2022 - more details: https://www.moredirt.com/event/4876
LOCATION:
END:VEVENT
END:VCALENDAR