BEGIN:VCALENDAR
VERSION:2.0
PRODID:-//MoreDirt v1.0//EN
BEGIN:VEVENT
DTSTAMP:20150730T130000Z
ORGANIZER;CN=Edge Cycles:MAILTO:
STATUS:CONFIRMED
UID:MORESPORTSNETWORK4868
DTSTART:20211031T080000+0000
DTEND:20211031T120000+0000
SUMMARY:Edge Cycles DH Series
DESCRIPTION:Edge Cycles DH Series - more details: https://www.moredirt.com/event/4868
X-ALT-DESC;FMTTYPE=text/html:Edge Cycles DH Series - more details: https://www.moredirt.com/event/4868
LOCATION:
END:VEVENT
END:VCALENDAR