BEGIN:VCALENDAR
VERSION:2.0
PRODID:-//MoreDirt v1.0//EN
BEGIN:VEVENT
DTSTAMP:20150730T130000Z
ORGANIZER;CN=Forestry England:MAILTO:
STATUS:CONFIRMED
UID:MORESPORTSNETWORK4867
DTSTART:20211016T080000Z
DTEND:20211016T120000Z
SUMMARY:MTB Trail Maintenance Day - Hamsterley Forest
DESCRIPTION:MTB Trail Maintenance Day - Hamsterley Forest - more details: https://www.moredirt.com/event/4867
X-ALT-DESC;FMTTYPE=text/html:MTB Trail Maintenance Day - Hamsterley Forest - more details: https://www.moredirt.com/event/4867
LOCATION:
END:VEVENT
END:VCALENDAR