BEGIN:VCALENDAR
VERSION:2.0
PRODID:-//MoreDirt v1.0//EN
BEGIN:VEVENT
DTSTAMP:20150730T130000Z
ORGANIZER;CN=Gawton Gravity Hub:MAILTO:
STATUS:CONFIRMED
UID:MORESPORTSNETWORK4866
DTSTART:20210925T080000Z
DTEND:20210926T120000Z
SUMMARY:Balance Bike Track Construction -  Gawton Gravity Hub
DESCRIPTION:Balance Bike Track Construction -  Gawton Gravity Hub - more details: https://www.moredirt.com/event/4866
X-ALT-DESC;FMTTYPE=text/html:Balance Bike Track Construction -  Gawton Gravity Hub - more details: https://www.moredirt.com/event/4866
LOCATION:
END:VEVENT
END:VCALENDAR