BEGIN:VCALENDAR
VERSION:2.0
PRODID:-//MoreDirt v1.0//EN
BEGIN:VEVENT
DTSTAMP:20150730T130000Z
ORGANIZER;CN=Alastair Mcnaughton:MAILTO:
STATUS:CONFIRMED
UID:MORESPORTSNETWORK4862
DTSTART:20220625T080000Z
DTEND:20220626T120000Z
SUMMARY:Raptor Rally 2022
DESCRIPTION:Raptor Rally 2022 - more details: https://www.moredirt.com/event/4862
X-ALT-DESC;FMTTYPE=text/html:Raptor Rally 2022 - more details: https://www.moredirt.com/event/4862
LOCATION:
END:VEVENT
END:VCALENDAR