BEGIN:VCALENDAR
VERSION:2.0
PRODID:-//MoreDirt v1.0//EN
BEGIN:VEVENT
DTSTAMP:20150730T130000Z
ORGANIZER;CN=Mike Gibson:MAILTO:
STATUS:CONFIRMED
UID:MORESPORTSNETWORK4860
DTSTART:20210911T080000Z
DTEND:20210911T120000Z
SUMMARY:40:40 Gravel Races
DESCRIPTION:40:40 Gravel Races - more details: https://www.moredirt.com/event/4860
X-ALT-DESC;FMTTYPE=text/html:40:40 Gravel Races - more details: https://www.moredirt.com/event/4860
LOCATION:
END:VEVENT
END:VCALENDAR