BEGIN:VCALENDAR
VERSION:2.0
PRODID:-//MoreDirt v1.0//EN
BEGIN:VEVENT
DTSTAMP:20150730T130000Z
ORGANIZER;CN=Gravity Bike Club:MAILTO:
STATUS:CONFIRMED
UID:MORESPORTSNETWORK4859
DTSTART:20210925T080000Z
DTEND:20210926T120000Z
SUMMARY:Irish Downhill Mountain Bike National Championships 2021
DESCRIPTION:Irish Downhill Mountain Bike National Championships 2021 - more details: https://www.moredirt.com/event/4859
X-ALT-DESC;FMTTYPE=text/html:Irish Downhill Mountain Bike National Championships 2021 - more details: https://www.moredirt.com/event/4859
LOCATION:
END:VEVENT
END:VCALENDAR