BEGIN:VCALENDAR
VERSION:2.0
PRODID:-//MoreDirt v1.0//EN
BEGIN:VEVENT
DTSTAMP:20150730T130000Z
ORGANIZER;CN=Dirt Dash CC:MAILTO:
STATUS:CONFIRMED
UID:MORESPORTSNETWORK4854
DTSTART:20220529T080000Z
DTEND:20220529T120000Z
SUMMARY:Dorset Dirt Dash 100
DESCRIPTION:Dorset Dirt Dash 100 - more details: https://www.moredirt.com/event/4854
X-ALT-DESC;FMTTYPE=text/html:Dorset Dirt Dash 100 - more details: https://www.moredirt.com/event/4854
LOCATION:
END:VEVENT
END:VCALENDAR