BEGIN:VCALENDAR
VERSION:2.0
PRODID:-//MoreDirt v1.0//EN
BEGIN:VEVENT
DTSTAMP:20150730T130000Z
ORGANIZER;CN=South West Kenda Enduro:MAILTO:
STATUS:CONFIRMED
UID:MORESPORTSNETWORK4850
DTSTART:20211003T080000Z
DTEND:20211003T120000Z
SUMMARY:South West Kenda Enduro - Grogley Woods
DESCRIPTION:South West Kenda Enduro - Grogley Woods - more details: https://www.moredirt.com/event/4850
X-ALT-DESC;FMTTYPE=text/html:South West Kenda Enduro - Grogley Woods - more details: https://www.moredirt.com/event/4850
LOCATION:
END:VEVENT
END:VCALENDAR