BEGIN:VCALENDAR
VERSION:2.0
PRODID:-//MoreDirt v1.0//EN
BEGIN:VEVENT
DTSTAMP:20150730T130000Z
ORGANIZER;CN=Rutland Cycling:MAILTO:
STATUS:CONFIRMED
UID:MORESPORTSNETWORK4843
DTSTART:20210810T080000Z
DTEND:20210810T120000Z
SUMMARY:Electric Bike Demo Day - Rutland Cycling, Grafham Water
DESCRIPTION:Electric Bike Demo Day - Rutland Cycling, Grafham Water - more details: https://www.moredirt.com/event/4843
X-ALT-DESC;FMTTYPE=text/html:Electric Bike Demo Day - Rutland Cycling, Grafham Water - more details: https://www.moredirt.com/event/4843
LOCATION:
END:VEVENT
END:VCALENDAR