BEGIN:VCALENDAR
VERSION:2.0
PRODID:-//MoreDirt v1.0//EN
BEGIN:VEVENT
DTSTAMP:20150730T130000Z
ORGANIZER;CN=Glorious Gravel:MAILTO:
STATUS:CONFIRMED
UID:MORESPORTSNETWORK4839
DTSTART:20210911T080000Z
DTEND:20210911T120000Z
SUMMARY:Surrey Gravel Epic
DESCRIPTION:Surrey Gravel Epic - more details: https://www.moredirt.com/event/4839
X-ALT-DESC;FMTTYPE=text/html:Surrey Gravel Epic - more details: https://www.moredirt.com/event/4839
LOCATION:
END:VEVENT
END:VCALENDAR