BEGIN:VCALENDAR
VERSION:2.0
PRODID:-//MoreDirt v1.0//EN
BEGIN:VEVENT
DTSTAMP:20150730T130000Z
ORGANIZER;CN=Trash Free Trails:MAILTO:
STATUS:CONFIRMED
UID:MORESPORTSNETWORK4829
DTSTART:20210818T080000Z
DTEND:20210818T120000Z
SUMMARY:TrashMob Academy Taster Days - Bike Park Wales
DESCRIPTION:TrashMob Academy Taster Days - Bike Park Wales - more details: https://www.moredirt.com/event/4829
X-ALT-DESC;FMTTYPE=text/html:TrashMob Academy Taster Days - Bike Park Wales - more details: https://www.moredirt.com/event/4829
LOCATION:
END:VEVENT
END:VCALENDAR