BEGIN:VCALENDAR
VERSION:2.0
PRODID:-//MoreDirt v1.0//EN
BEGIN:VEVENT
DTSTAMP:20150730T130000Z
ORGANIZER;CN=MTB Epics:MAILTO:
STATUS:CONFIRMED
UID:MORESPORTSNETWORK4828
DTSTART:20210925T080000Z
DTEND:20210925T120000Z
SUMMARY:The Solstice 100
DESCRIPTION:The Solstice 100 - more details: https://www.moredirt.com/event/4828
X-ALT-DESC;FMTTYPE=text/html:The Solstice 100 - more details: https://www.moredirt.com/event/4828
LOCATION:
END:VEVENT
END:VCALENDAR