BEGIN:VCALENDAR
VERSION:2.0
PRODID:-//MoreDirt v1.0//EN
BEGIN:VEVENT
DTSTAMP:20150730T130000Z
ORGANIZER;CN=CORC - Canberra Off Road Cyclists:MAILTO:
STATUS:CONFIRMED
UID:MORESPORTSNETWORK4823
DTSTART:20210718T080000Z
DTEND:20210718T120000Z
SUMMARY:CORC XC #3 - Kowen (east)
DESCRIPTION:CORC XC #3 - Kowen (east) - more details: https://www.moredirt.com/event/4823
X-ALT-DESC;FMTTYPE=text/html:CORC XC #3 - Kowen (east) - more details: https://www.moredirt.com/event/4823
LOCATION:
END:VEVENT
END:VCALENDAR