BEGIN:VCALENDAR
VERSION:2.0
PRODID:-//MoreDirt v1.0//EN
BEGIN:VEVENT
DTSTAMP:20150730T130000Z
ORGANIZER;CN=Strathpuffer:MAILTO:
STATUS:CONFIRMED
UID:MORESPORTSNETWORK4813
DTSTART:20220115T080000+0000
DTEND:20220116T120000+0000
SUMMARY:Strathpuffer 24 MTB 2022
DESCRIPTION:Strathpuffer 24 MTB 2022 - more details: https://www.moredirt.com/event/4813
X-ALT-DESC;FMTTYPE=text/html:Strathpuffer 24 MTB 2022 - more details: https://www.moredirt.com/event/4813
LOCATION:
END:VEVENT
END:VCALENDAR