BEGIN:VCALENDAR
VERSION:2.0
PRODID:-//MoreDirt v1.0//EN
BEGIN:VEVENT
DTSTAMP:20150730T130000Z
ORGANIZER;CN=Doon Tha Brae Events:MAILTO:
STATUS:CONFIRMED
UID:MORESPORTSNETWORK4811
DTSTART:20211107T080000+0000
DTEND:20211107T120000+0000
SUMMARY:Glenlivet Enduro 2021
DESCRIPTION:Glenlivet Enduro 2021 - more details: https://www.moredirt.com/event/4811
X-ALT-DESC;FMTTYPE=text/html:Glenlivet Enduro 2021 - more details: https://www.moredirt.com/event/4811
LOCATION:
END:VEVENT
END:VCALENDAR