BEGIN:VCALENDAR
VERSION:2.0
PRODID:-//MoreDirt v1.0//EN
BEGIN:VEVENT
DTSTAMP:20150730T130000Z
ORGANIZER;CN=Jon Davies:MAILTO:
STATUS:CONFIRMED
UID:MORESPORTSNETWORK47
DTSTART:20110521T080000Z
DTEND:20110522T120000Z
SUMMARY:MIJ DH Series RD 2
DESCRIPTION:MIJ DH Series RD 2 - more details: https://www.moredirt.com/event/47
X-ALT-DESC;FMTTYPE=text/html:MIJ DH Series RD 2 - more details: https://www.moredirt.com/event/47
LOCATION:
END:VEVENT
END:VCALENDAR