BEGIN:VCALENDAR
VERSION:2.0
PRODID:-//MoreDirt v1.0//EN
BEGIN:VEVENT
DTSTAMP:20150730T130000Z
ORGANIZER;CN=Propain Bikes:MAILTO:
STATUS:CONFIRMED
UID:MORESPORTSNETWORK4799
DTSTART:20210924T080000Z
DTEND:20210926T120000Z
SUMMARY:Propain Demo Day - Flyup 417 Bikepark
DESCRIPTION:Propain Demo Day - Flyup 417 Bikepark - more details: https://www.moredirt.com/event/4799
X-ALT-DESC;FMTTYPE=text/html:Propain Demo Day - Flyup 417 Bikepark - more details: https://www.moredirt.com/event/4799
LOCATION:
END:VEVENT
END:VCALENDAR