BEGIN:VCALENDAR
VERSION:2.0
PRODID:-//MoreDirt v1.0//EN
BEGIN:VEVENT
DTSTAMP:20150730T130000Z
ORGANIZER;CN=Bagman Cycling:MAILTO:
STATUS:CONFIRMED
UID:MORESPORTSNETWORK4796
DTSTART:20220812T080000Z
DTEND:20220814T120000Z
SUMMARY:Cambrian Gravel Challenge 2022
DESCRIPTION:Cambrian Gravel Challenge 2022 - more details: https://www.moredirt.com/event/4796
X-ALT-DESC;FMTTYPE=text/html:Cambrian Gravel Challenge 2022 - more details: https://www.moredirt.com/event/4796
LOCATION:
END:VEVENT
END:VCALENDAR