BEGIN:VCALENDAR
VERSION:2.0
PRODID:-//MoreDirt v1.0//EN
BEGIN:VEVENT
DTSTAMP:20150730T130000Z
ORGANIZER;CN=Just Pedal Race Team:MAILTO:
STATUS:CONFIRMED
UID:MORESPORTSNETWORK4789
DTSTART:20210717T080000Z
DTEND:20210717T120000Z
SUMMARY:The Surrey Hills Epic
DESCRIPTION:The Surrey Hills Epic - more details: https://www.moredirt.com/event/4789
X-ALT-DESC;FMTTYPE=text/html:The Surrey Hills Epic - more details: https://www.moredirt.com/event/4789
LOCATION:
END:VEVENT
END:VCALENDAR