BEGIN:VCALENDAR
VERSION:2.0
PRODID:-//MoreDirt v1.0//EN
BEGIN:VEVENT
DTSTAMP:20150730T130000Z
ORGANIZER;CN=IOW MTB Centre:MAILTO:
STATUS:CONFIRMED
UID:MORESPORTSNETWORK4788
DTSTART:20210710T080000Z
DTEND:20210710T120000Z
SUMMARY:Fast 'N' Flow
DESCRIPTION:Fast 'N' Flow - more details: https://www.moredirt.com/event/4788
X-ALT-DESC;FMTTYPE=text/html:Fast 'N' Flow - more details: https://www.moredirt.com/event/4788
LOCATION:
END:VEVENT
END:VCALENDAR