BEGIN:VCALENDAR
VERSION:2.0
PRODID:-//MoreDirt v1.0//EN
BEGIN:VEVENT
DTSTAMP:20150730T130000Z
ORGANIZER;CN=IOW MTB Centre:MAILTO:
STATUS:CONFIRMED
UID:MORESPORTSNETWORK4786
DTSTART:20211010T080000Z
DTEND:20211010T120000Z
SUMMARY:Blue Steel Downhill Race
DESCRIPTION:Blue Steel Downhill Race - more details: https://www.moredirt.com/event/4786
X-ALT-DESC;FMTTYPE=text/html:Blue Steel Downhill Race - more details: https://www.moredirt.com/event/4786
LOCATION:
END:VEVENT
END:VCALENDAR