BEGIN:VCALENDAR
VERSION:2.0
PRODID:-//MoreDirt v1.0//EN
BEGIN:VEVENT
DTSTAMP:20150730T130000Z
ORGANIZER;CN=Skillz Bike Park:MAILTO:
STATUS:CONFIRMED
UID:MORESPORTSNETWORK4785
DTSTART:20210516T080000Z
DTEND:20210516T120000Z
SUMMARY:Woman’s MTB day at Skillz Bike Park
DESCRIPTION:Woman’s MTB day at Skillz Bike Park - more details: https://www.moredirt.com/event/4785
X-ALT-DESC;FMTTYPE=text/html:Woman’s MTB day at Skillz Bike Park - more details: https://www.moredirt.com/event/4785
LOCATION:
END:VEVENT
END:VCALENDAR