BEGIN:VCALENDAR
VERSION:2.0
PRODID:-//MoreDirt v1.0//EN
BEGIN:VEVENT
DTSTAMP:20150730T130000Z
ORGANIZER;CN=NRB Events:MAILTO:
STATUS:CONFIRMED
UID:MORESPORTSNETWORK4777
DTSTART:20210711T080000Z
DTEND:20210711T120000Z
SUMMARY:Birdsall Blast
DESCRIPTION:Birdsall Blast - more details: https://www.moredirt.com/event/4777
X-ALT-DESC;FMTTYPE=text/html:Birdsall Blast - more details: https://www.moredirt.com/event/4777
LOCATION:
END:VEVENT
END:VCALENDAR