BEGIN:VCALENDAR
VERSION:2.0
PRODID:-//MoreDirt v1.0//EN
BEGIN:VEVENT
DTSTAMP:20150730T130000Z
ORGANIZER;CN=CORC - Canberra Off Road Cyclists:MAILTO:
STATUS:CONFIRMED
UID:MORESPORTSNETWORK4770
DTSTART:20210425T080000Z
DTEND:20210425T120000Z
SUMMARY:CORC XC Round 3 West Stromlo
DESCRIPTION:CORC XC Round 3 West Stromlo - more details: https://www.moredirt.com/event/4770
X-ALT-DESC;FMTTYPE=text/html:CORC XC Round 3 West Stromlo - more details: https://www.moredirt.com/event/4770
LOCATION:
END:VEVENT
END:VCALENDAR