BEGIN:VCALENDAR
VERSION:2.0
PRODID:-//MoreDirt v1.0//EN
BEGIN:VEVENT
DTSTAMP:20150730T130000Z
ORGANIZER;CN=Rough Ride Guide Ltd:MAILTO:
STATUS:CONFIRMED
UID:MORESPORTSNETWORK4768
DTSTART:20210604T080000Z
DTEND:20210604T120000Z
SUMMARY:King Alfred's Way Supported ride
DESCRIPTION:King Alfred's Way Supported ride - more details: https://www.moredirt.com/event/4768
X-ALT-DESC;FMTTYPE=text/html:King Alfred's Way Supported ride - more details: https://www.moredirt.com/event/4768
LOCATION:
END:VEVENT
END:VCALENDAR