BEGIN:VCALENDAR
VERSION:2.0
PRODID:-//MoreDirt v1.0//EN
BEGIN:VEVENT
DTSTAMP:20150730T130000Z
ORGANIZER;CN=Trail Party :MAILTO:
STATUS:CONFIRMED
UID:MORESPORTSNETWORK4756
DTSTART:20210904T080000Z
DTEND:20210904T120000Z
SUMMARY:Trail Party Gravity Stage Racing - RD4
DESCRIPTION:Trail Party Gravity Stage Racing - RD4 - more details: https://www.moredirt.com/event/4756
X-ALT-DESC;FMTTYPE=text/html:Trail Party Gravity Stage Racing - RD4 - more details: https://www.moredirt.com/event/4756
LOCATION:
END:VEVENT
END:VCALENDAR