BEGIN:VCALENDAR
VERSION:2.0
PRODID:-//MoreDirt v1.0//EN
BEGIN:VEVENT
DTSTAMP:20150730T130000Z
ORGANIZER;CN=Trail Party :MAILTO:
STATUS:CONFIRMED
UID:MORESPORTSNETWORK4754
DTSTART:20210620T080000Z
DTEND:20210620T120000Z
SUMMARY:Trail Party Gravity Stage Racing - RD2
DESCRIPTION:Trail Party Gravity Stage Racing - RD2 - more details: https://www.moredirt.com/event/4754
X-ALT-DESC;FMTTYPE=text/html:Trail Party Gravity Stage Racing - RD2 - more details: https://www.moredirt.com/event/4754
LOCATION:
END:VEVENT
END:VCALENDAR