BEGIN:VCALENDAR
VERSION:2.0
PRODID:-//MoreDirt v1.0//EN
BEGIN:VEVENT
DTSTAMP:20150730T130000Z
ORGANIZER;CN=Trail Party :MAILTO:
STATUS:CONFIRMED
UID:MORESPORTSNETWORK4749
DTSTART:20210418T080000Z
DTEND:20210418T120000Z
SUMMARY:Spider Mountain DH Series #1
DESCRIPTION:Spider Mountain DH Series #1 - more details: https://www.moredirt.com/event/4749
X-ALT-DESC;FMTTYPE=text/html:Spider Mountain DH Series #1 - more details: https://www.moredirt.com/event/4749
LOCATION:
END:VEVENT
END:VCALENDAR