BEGIN:VCALENDAR
VERSION:2.0
PRODID:-//MoreDirt v1.0//EN
BEGIN:VEVENT
DTSTAMP:20150730T130000Z
ORGANIZER;CN=Loki Events:MAILTO:
STATUS:CONFIRMED
UID:MORESPORTSNETWORK4733
DTSTART:20210925T080000Z
DTEND:20210925T120000Z
SUMMARY:The Ozarks One-Eyed Dog 100/50/24/12 Mile XC Race
DESCRIPTION:The Ozarks One-Eyed Dog 100/50/24/12 Mile XC Race - more details: https://www.moredirt.com/event/4733
X-ALT-DESC;FMTTYPE=text/html:The Ozarks One-Eyed Dog 100/50/24/12 Mile XC Race - more details: https://www.moredirt.com/event/4733
LOCATION:
END:VEVENT
END:VCALENDAR