BEGIN:VCALENDAR
VERSION:2.0
PRODID:-//MoreDirt v1.0//EN
BEGIN:VEVENT
DTSTAMP:20150730T130000Z
ORGANIZER;CN=Loki Events:MAILTO:
STATUS:CONFIRMED
UID:MORESPORTSNETWORK4732
DTSTART:20210807T080000Z
DTEND:20210807T120000Z
SUMMARY:Ozarks GravelDuro
DESCRIPTION:Ozarks GravelDuro - more details: https://www.moredirt.com/event/4732
X-ALT-DESC;FMTTYPE=text/html:Ozarks GravelDuro - more details: https://www.moredirt.com/event/4732
LOCATION:
END:VEVENT
END:VCALENDAR