BEGIN:VCALENDAR
VERSION:2.0
PRODID:-//MoreDirt v1.0//EN
BEGIN:VEVENT
DTSTAMP:20150730T130000Z
ORGANIZER;CN=Loki Events:MAILTO:
STATUS:CONFIRMED
UID:MORESPORTSNETWORK4731
DTSTART:20210627T080000Z
DTEND:20210627T120000Z
SUMMARY:White River Enduro
DESCRIPTION:White River Enduro - more details: https://www.moredirt.com/event/4731
X-ALT-DESC;FMTTYPE=text/html:White River Enduro - more details: https://www.moredirt.com/event/4731
LOCATION:
END:VEVENT
END:VCALENDAR